BEGIN:VCALENDAR
VERSION:2.0
PRODID:-//Congregation Kehillah - ECPv6.15.20//NONSGML v1.0//EN
CALSCALE:GREGORIAN
METHOD:PUBLISH
X-ORIGINAL-URL:https://congregationkehillah.org
X-WR-CALDESC:Events for Congregation Kehillah
REFRESH-INTERVAL;VALUE=DURATION:PT1H
X-Robots-Tag:noindex
X-PUBLISHED-TTL:PT1H
BEGIN:VTIMEZONE
TZID:America/Phoenix
BEGIN:STANDARD
TZOFFSETFROM:-0700
TZOFFSETTO:-0700
TZNAME:MST
DTSTART:20250101T000000
END:STANDARD
END:VTIMEZONE
BEGIN:VEVENT
DTSTART;TZID=America/Phoenix:20260123T174500
DTEND;TZID=America/Phoenix:20260123T203000
DTSTAMP:20260422T022806
CREATED:20200519T012344Z
LAST-MODIFIED:20251121T162947Z
UID:14792-1769190300-1769200200@congregationkehillah.org
SUMMARY:KABBALAT SHABBAT
DESCRIPTION:KABBALAT SHABBAT \nFriday\, January 23 \nPre-Oneg at 5:45pm \nKabbalat Shabbat following Oneg \nInvite your friends! \nIt is important to be together in community-we strengthen one another. \nPlease join Rabbi Sharfman and our Cantorial Soloists for in-person and multi-access \nWe encourage you – and welcome you – to attend services in person. Zoom will be available to those out of town or who can’t attend in person. \n\n\n\n 
URL:https://congregationkehillah.org/event/kabbalat-shabbat-10/
END:VEVENT
BEGIN:VEVENT
DTSTART;TZID=America/Phoenix:20260125T093000
DTEND;TZID=America/Phoenix:20260125T120000
DTSTAMP:20260422T022806
CREATED:20210927T004245Z
LAST-MODIFIED:20260113T174333Z
UID:15011-1769333400-1769342400@congregationkehillah.org
SUMMARY:YEP!
DESCRIPTION:25 \n\n\n\n\n\n\n\n\n\n\n\n\n\n\n\n\n\n\n\n\n\n\n\n\n\n\n\n\n\n\n\n\n\n\n\n\n\n\n\n\n\n\n\n\n\n\nCheck Out Our New YEP! Facebook Page \nHave you seen our new YEP! Facebook page? \nWe’d love for you to take a moment to follow us\, \nleave a 5-star rating\, and share a raving review! \n  \n👉 Visit the YEP! Facebook Page \nA big thank you to YEP! dad and Board Member\, Alex Kiselman \nfor creating this fantastic page for our community! \n\n\n\n\n\n\n\n\n\n\n\n\n\n\n\n\n\n\n\n\n\n\n\nWinter/Spring 2026 dates (subject to change): \nJanuary 25 \nFebruary 8 \nFebruary 22 – Purim Carnival after YEP! \nMarch 8 & 29 \nApril 12- Israel Day Program \nApril 26 \nFriday\, May 1 – YEP! will help lead Kabbalat Shabbat services \nMay 3 – last session \n\n\n\n\n\n\n\n\n  \n  \n 
URL:https://congregationkehillah.org/event/yep-dup/
END:VEVENT
BEGIN:VEVENT
DTSTART;TZID=America/Phoenix:20260201T120000
DTEND;TZID=America/Phoenix:20260201T170000
DTSTAMP:20260422T022806
CREATED:20260113T180540Z
LAST-MODIFIED:20260113T180719Z
UID:15026-1769947200-1769965200@congregationkehillah.org
SUMMARY:CYKA Event
DESCRIPTION:RSVP HERE \nHi everyone\, \nCongregation Kehillah Young Adults (CKYA) warmly invites you* to celebrate Tu B’Shevat — the Jewish birthday of the trees — with a nature hike at Papago Park 🌿 \nWe’ll hike a beginner-friendly trail together\, and pause halfway to enjoy Tu B’Shevat–themed snacks\, and activities. \nDate & Time: \nSunday\, February 1 at 12:00 p.m. \nPlease RSVP so you can receive important updates\, including exact parking and trail details\, via email. \nTiming: \nPlease plan to arrive on time. We’ll wait 15 minutes after the start time and then head out as a group. If you arrive late and are a confident hiker\, feel free to catch up — trail details will be shared by email. \nWhat to bring: \n• Water \n• Comfortable walking shoes \nWho’s welcome: \n*Jewish young adults ages 21–35. Non-Jewish partners are warmly welcome. \nHiking Level: \nEasy — some might even consider it a nature walk. \nLocation: \nPapago Park \nExact parking and trail details TBA \nWe’re really looking forward to celebrating Tu B’Shevat together outdoors 🌱 \nRSVP HERE \nWarmly\,  \nAleeza \nCKYA Coordinator \nCongregation Kehillah Young Adults \nFollow us on Instagram
URL:https://congregationkehillah.org/event/cyka-event/
END:VEVENT
BEGIN:VEVENT
DTSTART;TZID=America/Phoenix:20260208T093000
DTEND;TZID=America/Phoenix:20260208T120000
DTSTAMP:20260422T022806
CREATED:20210927T004245Z
LAST-MODIFIED:20260113T174433Z
UID:15012-1770543000-1770552000@congregationkehillah.org
SUMMARY:YEP!
DESCRIPTION:25 \n\n\n\n\n\n\n\n\n\n\n\n\n\n\n\n\n\n\n\n\n\n\n\n\n\n\n\n\n\n\n\n\n\n\n\n\n\n\n\n\n\n\n\n\n\n\nCheck Out Our New YEP! Facebook Page \nHave you seen our new YEP! Facebook page? \nWe’d love for you to take a moment to follow us\, \nleave a 5-star rating\, and share a raving review! \n  \n👉 Visit the YEP! Facebook Page \nA big thank you to YEP! dad and Board Member\, Alex Kiselman \nfor creating this fantastic page for our community! \n\n\n\n\n\n\n\n\n\n\n\n\n\n\n\n\n\n\n\n\n\n\n\nWinter/Spring 2026 dates (subject to change): \nJanuary 25 \nFebruary 8 \nFebruary 22 – Purim Carnival after YEP! \nMarch 8 & 29 \nApril 12- Israel Day Program \nApril 26 \nFriday\, May 1 – YEP! will help lead Kabbalat Shabbat services \nMay 3 – last session \n\n\n\n\n\n\n\n\n  \n  \n 
URL:https://congregationkehillah.org/event/yep/
END:VEVENT
BEGIN:VEVENT
DTSTART;TZID=America/Phoenix:20260214T100000
DTEND;TZID=America/Phoenix:20260214T133000
DTSTAMP:20260422T022806
CREATED:20260113T175911Z
LAST-MODIFIED:20260203T203553Z
UID:15021-1771063200-1771075800@congregationkehillah.org
SUMMARY:Shabbat Morning Services
DESCRIPTION:
URL:https://congregationkehillah.org/event/shabbat-morning-services/
END:VEVENT
BEGIN:VEVENT
DTSTART;TZID=America/Phoenix:20260217T183000
DTEND;TZID=America/Phoenix:20260217T200000
DTSTAMP:20260422T022806
CREATED:20260203T214830Z
LAST-MODIFIED:20260203T214832Z
UID:15051-1771353000-1771358400@congregationkehillah.org
SUMMARY:Women’s Night Out
DESCRIPTION:WOMENS NIGHT OUT \n \nWe are looking forward to our upcoming Packing Party and Potluck Dinner and would love to know what dish you are planning to bring. \nTo help ensure a nice variety\, please choose from the list below and let Paulette Fraenkel know your selection. \nItems needed: \n\nSalads\nFruit\nDesserts\nPasta (already signed up for)\nCheese & Crackers\nEgg salad or deviled eggs\nVeggie platter\n\nPlease note: All supplies for the packing party will be provided by Women 4 Women. \n  \nThank you for helping make this evening delicious and enjoyable for all. We truly appreciate your participation! \n\n\n\n\n\n\n\n\n\n\n\n\n\n\n\n 
URL:https://congregationkehillah.org/event/womens-night-out-4/
END:VEVENT
BEGIN:VEVENT
DTSTART;TZID=America/Phoenix:20260220T174500
DTEND;TZID=America/Phoenix:20260220T200000
DTSTAMP:20260422T022806
CREATED:20200519T012344Z
LAST-MODIFIED:20260203T213733Z
UID:14794-1771609500-1771617600@congregationkehillah.org
SUMMARY:Pre Oneg and KABBALAT SHABBAT
DESCRIPTION:KABBALAT SHABBAT \nFriday\, February 20 \nPre-Oneg at 5:45 pm \nKabbalat Shabbat following Oneg \nInvite your friends! \nIt is important to be together in community-we strengthen one another. \nPlease join Rabbi Sharfman and our Cantorial Soloists for in-person and multi-access \nWe encourage you – and welcome you – to attend services in person. Zoom will be available to those out of town or who can’t attend in person. \n\n\n\n 
URL:https://congregationkehillah.org/event/kabbalat-shabbat-12/
END:VEVENT
BEGIN:VEVENT
DTSTART;TZID=America/Phoenix:20260222T093000
DTEND;TZID=America/Phoenix:20260222T120000
DTSTAMP:20260422T022806
CREATED:20210927T004245Z
LAST-MODIFIED:20260113T174516Z
UID:15013-1771752600-1771761600@congregationkehillah.org
SUMMARY:YEP!
DESCRIPTION:25 \n\n\n\n\n\n\n\n\n\n\n\n\n\n\n\n\n\n\n\n\n\n\n\n\n\n\n\n\n\n\n\n\n\n\n\n\n\n\n\n\n\n\n\n\n\n\nCheck Out Our New YEP! Facebook Page \nHave you seen our new YEP! Facebook page? \nWe’d love for you to take a moment to follow us\, \nleave a 5-star rating\, and share a raving review! \n  \n👉 Visit the YEP! Facebook Page \nA big thank you to YEP! dad and Board Member\, Alex Kiselman \nfor creating this fantastic page for our community! \n\n\n\n\n\n\n\n\n\n\n\n\n\n\n\n\n\n\n\n\n\n\n\nWinter/Spring 2026 dates (subject to change): \nJanuary 25 \nFebruary 8 \nFebruary 22 – Purim Carnival after YEP! \nMarch 8 & 29 \nApril 12- Israel Day Program \nApril 26 \nFriday\, May 1 – YEP! will help lead Kabbalat Shabbat services \nMay 3 – last session \n\n\n\n\n\n\n\n\n  \n  \n 
URL:https://congregationkehillah.org/event/yep-2/
END:VEVENT
BEGIN:VEVENT
DTSTART;TZID=America/Phoenix:20260222T113000
DTEND;TZID=America/Phoenix:20260222T120000
DTSTAMP:20260422T022806
CREATED:20260203T214339Z
LAST-MODIFIED:20260203T214341Z
UID:15049-1771759800-1771761600@congregationkehillah.org
SUMMARY:Sippy Cup Shabbat
DESCRIPTION:
URL:https://congregationkehillah.org/event/sippy-cup-shabbat/
END:VEVENT
BEGIN:VEVENT
DTSTART;TZID=America/Phoenix:20260222T120000
DTEND;TZID=America/Phoenix:20260222T133000
DTSTAMP:20260422T022806
CREATED:20260113T180222Z
LAST-MODIFIED:20260113T180227Z
UID:15023-1771761600-1771767000@congregationkehillah.org
SUMMARY:Purim Carnival
DESCRIPTION:
URL:https://congregationkehillah.org/event/purim-carnival/
END:VEVENT
BEGIN:VEVENT
DTSTART;TZID=America/Phoenix:20260223T170000
DTEND;TZID=America/Phoenix:20260223T181500
DTSTAMP:20260422T022806
CREATED:20250802T015814Z
LAST-MODIFIED:20260113T172653Z
UID:15000-1771866000-1771870500@congregationkehillah.org
SUMMARY:Welcome to Judaism
DESCRIPTION:12 \n\n\n\n\n\n\n\n\n\n\n\n\n\n\n\n\n\n\n\n\n\n\n\n\n\n\n\n\n\n\n\nWELCOME TO JUDAISM \nMonday\, February 23 \n5:00 – 6:15 p.m. \nVia Zoom \n\n\n\n\n\n\n\n\n\nThis introductory course\, taught by Rabbi Sharfman\, provides a foundation in the basic tenets of Judaism. Among areas covered are History\, Holidays and Observances\, Life Cycle\, Theology\, Prayer\, Israel\, and Communal Life. Open to non-Jews alone\, non-Jews with their Jewish partners\, and Jewish adults interested in further exploring Judaism. \nWinter schedule (subject to change) \nJanuary 12 and 19 \nFebruary 23 \nMarch 2\, 9\, 16\, 23 and 30 \nThis class is offered at no charge \nfor all dues paying members of CK! \nRegister by emailing Renee. \nNon-members\, please use this link to register
URL:https://congregationkehillah.org/event/welcome-to-judaism-10/
END:VEVENT
BEGIN:VEVENT
DTSTART;TZID=America/Phoenix:20260228T103000
DTEND;TZID=America/Phoenix:20260228T123000
DTSTAMP:20260422T022806
CREATED:20260203T215018Z
LAST-MODIFIED:20260203T215018Z
UID:15053-1772274600-1772281800@congregationkehillah.org
SUMMARY:Torah Talk
DESCRIPTION:28 \n\n\n\n\n\n\n\n\n\n\n\n\n\n\n\n\n\n\n\n\n\n\n\n\n\n\n\n\n\n\n\nJoin us this Shabbat morning\, Saturday\, February 28\, at 10:30 a.m.via Zoom as we explore Tetzaveh. \n  \nTetzaveh (“You Shall Command”) opens as God instructs Moses to appoint Aaron and his sons as priests. God details how to make the priestly clothing\, how to sanctify the priests and offer sacrifices during the seven days of inauguration in the Mishkan (Tabernacle)\, and how to build the golden altar. \nInterested in learning more? Check it out here. We recommend having a JPS Hebrew-English Tanakh for the discussion\, which you can find on Amazon. \n  \nA minyan (a quorum of ten over the age of 13) ensures that those who need to say Kaddish have the opportunity to do so. Please reply with your “Yes” response. Once you reply “Yes\,” the Zoom link will be sent to you closer to the date. \nYou don’t need any prior knowledge of the Torah portion\, and you’re always welcome to join us and simply listen.
URL:https://congregationkehillah.org/event/torah-talk-4/
END:VEVENT
BEGIN:VEVENT
DTSTART;TZID=America/Phoenix:20260302T170000
DTEND;TZID=America/Phoenix:20260302T181500
DTSTAMP:20260422T022806
CREATED:20250802T015814Z
LAST-MODIFIED:20260113T172755Z
UID:15001-1772470800-1772475300@congregationkehillah.org
SUMMARY:Welcome to Judaism
DESCRIPTION:12 \n\n\n\n\n\n\n\n\n\n\n\n\n\n\n\n\n\n\n\n\n\n\n\n\n\n\n\n\n\n\n\nWELCOME TO JUDAISM \n5:00 – 6:15 p.m. \nVia Zoom \n\n\n\n\n\n\n\n\n\nThis introductory course\, taught by Rabbi Sharfman\, provides a foundation in the basic tenets of Judaism. Among areas covered are History\, Holidays and Observances\, Life Cycle\, Theology\, Prayer\, Israel\, and Communal Life. Open to non-Jews alone\, non-Jews with their Jewish partners\, and Jewish adults interested in further exploring Judaism. \nWinter schedule (subject to change) \nJanuary 12 and 19 \nFebruary 23 \nMarch 2\, 9\, 16\, 23 and 30 \nThis class is offered at no charge \nfor all dues paying members of CK! \nRegister by emailing Renee. \nNon-members\, please use this link to register
URL:https://congregationkehillah.org/event/welcome-to-judaism-11/
END:VEVENT
BEGIN:VEVENT
DTSTART;TZID=America/Phoenix:20260302T170000
DTEND;TZID=America/Phoenix:20260302T181500
DTSTAMP:20260422T022806
CREATED:20260203T215247Z
LAST-MODIFIED:20260203T215247Z
UID:15054-1772470800-1772475300@congregationkehillah.org
SUMMARY:Purim Megillah Reading
DESCRIPTION:Want more Purim fun? We’ve got you covered! Join us via Zoom on Monday evening\, March 2nd\, from 5:00–6:15 p.m.\, when Rabbi will lead a brief Megillah reading along with meaningful teaching about the holiday. Please RSVP by February 25th in order to receive the Zoom link. \n  \nDo you need a grogger? Absolutely! Please have something nearby to help drown out you-know-whose name. Get creative—musical shaker eggs\, maracas\, a box of macaroni and cheese\, or beans or rice in a clean\, dry water bottle all work perfectly. You get the idea! \n  \nWe can’t wait to celebrate Purim with you! 
URL:https://congregationkehillah.org/event/purim-megillah-reading/
END:VEVENT
BEGIN:VEVENT
DTSTART;TZID=America/Phoenix:20260306T174500
DTEND;TZID=America/Phoenix:20260306T200000
DTSTAMP:20260422T022806
CREATED:20200519T012344Z
LAST-MODIFIED:20260203T213650Z
UID:14795-1772819100-1772827200@congregationkehillah.org
SUMMARY:Pre Oneg and KABBALAT SHABBAT
DESCRIPTION:KABBALAT SHABBAT \nFriday\, March 6 \nPre-Oneg at 5:45pm \nKabbalat Shabbat following Oneg \nInvite your friends! \nIt is important to be together in community-we strengthen one another. \nPlease join Rabbi Sharfman and our Cantorial Soloists for in-person and multi-access \nWe encourage you – and welcome you – to attend services in person. Zoom will be available to those out of town or who can’t attend in person. \n\n\n\n 
URL:https://congregationkehillah.org/event/kabbalat-shabbat-13/
END:VEVENT
BEGIN:VEVENT
DTSTART;TZID=America/Phoenix:20260308T093000
DTEND;TZID=America/Phoenix:20260308T120000
DTSTAMP:20260422T022806
CREATED:20210927T004245Z
LAST-MODIFIED:20260113T174627Z
UID:15014-1772962200-1772971200@congregationkehillah.org
SUMMARY:YEP!
DESCRIPTION:25 \n\n\n\n\n\n\n\n\n\n\n\n\n\n\n\n\n\n\n\n\n\n\n\n\n\n\n\n\n\n\n\n\n\n\n\n\n\n\n\n\n\n\n\n\n\n\nCheck Out Our New YEP! Facebook Page \nHave you seen our new YEP! Facebook page? \nWe’d love for you to take a moment to follow us\, \nleave a 5-star rating\, and share a raving review! \n  \n👉 Visit the YEP! Facebook Page \nA big thank you to YEP! dad and Board Member\, Alex Kiselman \nfor creating this fantastic page for our community! \n\n\n\n\n\n\n\n\n\n\n\n\n\n\n\n\n\n\n\n\n\n\n\nWinter/Spring 2026 dates (subject to change): \nJanuary 25 \nFebruary 8 \nFebruary 22 – Purim Carnival after YEP! \nMarch 8 & 29 \nApril 12- Israel Day Program \nApril 26 \nFriday\, May 1 – YEP! will help lead Kabbalat Shabbat services \nMay 3 – last session \n\n\n\n\n\n\n\n\n  \n  \n 
URL:https://congregationkehillah.org/event/yep-3/
END:VEVENT
BEGIN:VEVENT
DTSTART;TZID=America/Phoenix:20260309T170000
DTEND;TZID=America/Phoenix:20260309T181500
DTSTAMP:20260422T022806
CREATED:20250802T015814Z
LAST-MODIFIED:20260113T172837Z
UID:15002-1773075600-1773080100@congregationkehillah.org
SUMMARY:Welcome to Judaism
DESCRIPTION:12 \n\n\n\n\n\n\n\n\n\n\n\n\n\n\n\n\n\n\n\n\n\n\n\n\n\n\n\n\n\n\n\nWELCOME TO JUDAISM \n5:00 – 6:15 p.m. \nVia Zoom \n\n\n\n\n\n\n\n\n\nThis introductory course\, taught by Rabbi Sharfman\, provides a foundation in the basic tenets of Judaism. Among areas covered are History\, Holidays and Observances\, Life Cycle\, Theology\, Prayer\, Israel\, and Communal Life. Open to non-Jews alone\, non-Jews with their Jewish partners\, and Jewish adults interested in further exploring Judaism. \nWinter schedule (subject to change) \nJanuary 12 and 19 \nFebruary 23 \nMarch 2\, 9\, 16\, 23 and 30 \nThis class is offered at no charge \nfor all dues paying members of CK! \nRegister by emailing Renee. \nNon-members\, please use this link to register
URL:https://congregationkehillah.org/event/welcome-to-judaism-12/
END:VEVENT
BEGIN:VEVENT
DTSTART;TZID=America/Phoenix:20260310T180000
DTEND;TZID=America/Phoenix:20260310T200000
DTSTAMP:20260422T022806
CREATED:20260310T004857Z
LAST-MODIFIED:20260310T004903Z
UID:15079-1773165600-1773172800@congregationkehillah.org
SUMMARY:Women’s Night Out
DESCRIPTION:
URL:https://congregationkehillah.org/event/womens-night-out/
END:VEVENT
BEGIN:VEVENT
DTSTART;TZID=America/Phoenix:20260314T103000
DTEND;TZID=America/Phoenix:20260314T120000
DTSTAMP:20260422T022806
CREATED:20260310T005046Z
LAST-MODIFIED:20260310T005046Z
UID:15081-1773484200-1773489600@congregationkehillah.org
SUMMARY:Torah Talk
DESCRIPTION:DATE \n\n\n\n\n\n\n\n\n\n\n\n\n\n\n\n\n\n\n\n\n\n\n\n\n\n\n\n\n\n\n\nJoin us Shabbat morning\, Saturday\, March 14\, at 10:30 a.m. via Zoom as we explore Vayakhel-Pekudei. \nThis combined Torah portion concludes the Book of Exodus\, focusing on the construction of the Mishkan (Tabernacle) by the Israelites\, the creation of priestly garments\, and the final assembly of the sanctuary. It emphasizes community\, generosity\, obedience to God’s instructions\, and the balance between work and Shabbat. We’ll also look at what the Torah has to say about Passover\, which starts on Wednesday\, April 1. \nInterested in learning more? Check it out here. We recommend having a JPS Hebrew-English Tanakh for the discussion\, which you can find on Amazon. \n  \nA minyan (a quorum of ten over the age of 13) ensures that those who need to say Kaddish have the opportunity to do so. Please reply with your “Yes” response. Once you reply “Yes\,” the Zoom link will be sent to you closer to the date. \nYou don’t need any prior knowledge of the Torah portion\, and you’re always welcome to join us and simply listen.
URL:https://congregationkehillah.org/event/torah-talk/
END:VEVENT
BEGIN:VEVENT
DTSTART;TZID=America/Phoenix:20260316T170000
DTEND;TZID=America/Phoenix:20260316T181500
DTSTAMP:20260422T022806
CREATED:20250802T015814Z
LAST-MODIFIED:20260113T172919Z
UID:15003-1773680400-1773684900@congregationkehillah.org
SUMMARY:Welcome to Judaism
DESCRIPTION:12 \n\n\n\n\n\n\n\n\n\n\n\n\n\n\n\n\n\n\n\n\n\n\n\n\n\n\n\n\n\n\n\nWELCOME TO JUDAISM \n5:00 – 6:15 p.m. \nVia Zoom \n\n\n\n\n\n\n\n\n\nThis introductory course\, taught by Rabbi Sharfman\, provides a foundation in the basic tenets of Judaism. Among areas covered are History\, Holidays and Observances\, Life Cycle\, Theology\, Prayer\, Israel\, and Communal Life. Open to non-Jews alone\, non-Jews with their Jewish partners\, and Jewish adults interested in further exploring Judaism. \nWinter schedule (subject to change) \nJanuary 12 and 19 \nFebruary 23 \nMarch 2\, 9\, 16\, 23 and 30 \nThis class is offered at no charge \nfor all dues paying members of CK! \nRegister by emailing Renee. \nNon-members\, please use this link to register
URL:https://congregationkehillah.org/event/welcome-to-judaism-13/
END:VEVENT
BEGIN:VEVENT
DTSTART;TZID=America/Phoenix:20260317T181500
DTEND;TZID=America/Phoenix:20260317T210000
DTSTAMP:20260422T022806
CREATED:20260310T005259Z
LAST-MODIFIED:20260310T005304Z
UID:15082-1773771300-1773781200@congregationkehillah.org
SUMMARY:Kehillah Men’s Group
DESCRIPTION:
URL:https://congregationkehillah.org/event/kehillah-mens-group-2/
END:VEVENT
BEGIN:VEVENT
DTSTART;TZID=America/Phoenix:20260320T174500
DTEND;TZID=America/Phoenix:20260320T200000
DTSTAMP:20260422T022806
CREATED:20200519T012344Z
LAST-MODIFIED:20260203T213605Z
UID:14796-1774028700-1774036800@congregationkehillah.org
SUMMARY:Pre Oneg and KABBALAT SHABBAT
DESCRIPTION:KABBALAT SHABBAT \nFriday\, March 20 \nPre-Oneg at 5:45pm \nKabbalat Shabbat following Oneg \nInvite your friends! \nIt is important to be together in community-we strengthen one another. \nPlease join Rabbi Sharfman and our Cantorial Soloists for in-person and multi-access \nWe encourage you – and welcome you – to attend services in person. Zoom will be available to those out of town or who can’t attend in person. \n\n\n\n 
URL:https://congregationkehillah.org/event/kabbalat-shabbat-17/
END:VEVENT
BEGIN:VEVENT
DTSTART;TZID=America/Phoenix:20260321T100000
DTEND;TZID=America/Phoenix:20260321T120000
DTSTAMP:20260422T022806
CREATED:20260203T215433Z
LAST-MODIFIED:20260310T005543Z
UID:15055-1774087200-1774094400@congregationkehillah.org
SUMMARY:Bat Mitzvah of Aria Kiselman
DESCRIPTION:SHABBAT MORNING SERVICE \nARIA KISELMAN BAT MITZVAH \nSATURDAY\, MARCH 21 \n\n\n\n\n\n\n\n\n\n\n\n\n\n\n\n\n\n\n\n\n\n\n\n\n\n\n\n\n\n\n\n\n\n\n\n\n\n\n\nSirion and Alex Kiselman warmly invite the members of Congregation Kehillah to join them as their daughter\, Aria\, \nis called to the Torah. A Kiddush brunch will follow the service. \nKindly RSVP to Renee no later than March 13.
URL:https://congregationkehillah.org/event/bat-mitzvah-ari-kiselman/
END:VEVENT
BEGIN:VEVENT
DTSTART;TZID=America/Phoenix:20260323T170000
DTEND;TZID=America/Phoenix:20260323T181500
DTSTAMP:20260422T022806
CREATED:20250802T015814Z
LAST-MODIFIED:20260113T173055Z
UID:15004-1774285200-1774289700@congregationkehillah.org
SUMMARY:Welcome to Judaism
DESCRIPTION:12 \n\n\n\n\n\n\n\n\n\n\n\n\n\n\n\n\n\n\n\n\n\n\n\n\n\n\n\n\n\n\n\nWELCOME TO JUDAISM \n5:00 – 6:15 p.m. \nVia Zoom \n\n\n\n\n\n\n\n\n\nThis introductory course\, taught by Rabbi Sharfman\, provides a foundation in the basic tenets of Judaism. Among areas covered are History\, Holidays and Observances\, Life Cycle\, Theology\, Prayer\, Israel\, and Communal Life. Open to non-Jews alone\, non-Jews with their Jewish partners\, and Jewish adults interested in further exploring Judaism. \nWinter schedule (subject to change) \nJanuary 12 and 19 \nFebruary 23 \nMarch 2\, 9\, 16\, 23 and 30 \nThis class is offered at no charge \nfor all dues paying members of CK! \nRegister by emailing Renee. \nNon-members\, please use this link to register
URL:https://congregationkehillah.org/event/welcome-to-judaism-14/
END:VEVENT
BEGIN:VEVENT
DTSTART;TZID=America/Phoenix:20260328T110000
DTEND;TZID=America/Phoenix:20260328T170000
DTSTAMP:20260422T022806
CREATED:20260310T005958Z
LAST-MODIFIED:20260310T010000Z
UID:15084-1774695600-1774717200@congregationkehillah.org
SUMMARY:Sippy Cup Shabbat
DESCRIPTION:
URL:https://congregationkehillah.org/event/sippy-cup-shabbat-2/
END:VEVENT
BEGIN:VEVENT
DTSTART;TZID=America/Phoenix:20260329T093000
DTEND;TZID=America/Phoenix:20260329T120000
DTSTAMP:20260422T022806
CREATED:20210927T004245Z
LAST-MODIFIED:20260113T175323Z
UID:15019-1774776600-1774785600@congregationkehillah.org
SUMMARY:YEP!
DESCRIPTION:25 \n\n\n\n\n\n\n\n\n\n\n\n\n\n\n\n\n\n\n\n\n\n\n\n\n\n\n\n\n\n\n\n\n\n\n\n\n\n\n\n\n\n\n\n\n\n\nCheck Out Our New YEP! Facebook Page \nHave you seen our new YEP! Facebook page? \nWe’d love for you to take a moment to follow us\, \nleave a 5-star rating\, and share a raving review! \n  \n👉 Visit the YEP! Facebook Page \nA big thank you to YEP! dad and Board Member\, Alex Kiselman \nfor creating this fantastic page for our community! \n\n\n\n\n\n\n\n\n\n\n\n\n\n\n\n\n\n\n\n\n\n\n\nWinter/Spring 2026 dates (subject to change): \nJanuary 25 \nFebruary 8 \nFebruary 22 – Purim Carnival after YEP! \nMarch 8 & 29 \nApril 12- Israel Day Program \nApril 26 \nFriday\, May 1 – YEP! will help lead Kabbalat Shabbat services \nMay 3 – last session \n\n\n\n\n\n\n\n\n  \n  \n 
URL:https://congregationkehillah.org/event/yep-12/
END:VEVENT
BEGIN:VEVENT
DTSTART;TZID=America/Phoenix:20260330T170000
DTEND;TZID=America/Phoenix:20260330T181500
DTSTAMP:20260422T022806
CREATED:20250802T015814Z
LAST-MODIFIED:20260113T173132Z
UID:15005-1774890000-1774894500@congregationkehillah.org
SUMMARY:Welcome to Judaism
DESCRIPTION:12 \n\n\n\n\n\n\n\n\n\n\n\n\n\n\n\n\n\n\n\n\n\n\n\n\n\n\n\n\n\n\n\nWELCOME TO JUDAISM \n5:00 – 6:15 p.m. \nVia Zoom \n\n\n\n\n\n\n\n\n\nThis introductory course\, taught by Rabbi Sharfman\, provides a foundation in the basic tenets of Judaism. Among areas covered are History\, Holidays and Observances\, Life Cycle\, Theology\, Prayer\, Israel\, and Communal Life. Open to non-Jews alone\, non-Jews with their Jewish partners\, and Jewish adults interested in further exploring Judaism. \nWinter schedule (subject to change) \nJanuary 12 and 19 \nFebruary 23 \nMarch 2\, 9\, 16\, 23 and 30 \nThis class is offered at no charge \nfor all dues paying members of CK! \nRegister by emailing Renee. \nNon-members\, please use this link to register
URL:https://congregationkehillah.org/event/welcome-to-judaism-15/
END:VEVENT
BEGIN:VEVENT
DTSTART;TZID=America/Phoenix:20260404T130000
DTEND;TZID=America/Phoenix:20260404T150000
DTSTAMP:20260422T022806
CREATED:20260328T013147Z
LAST-MODIFIED:20260328T013147Z
UID:15104-1775307600-1775314800@congregationkehillah.org
SUMMARY:CYKA Break the Matzah
DESCRIPTION:Break the Matzah: A Passover Social for Connection\nThis is not a seder — just a casual\,\nconnection-focused Passover social.\nRSVP HERE \nI’m excited to invite you to our upcoming CKYA event: \nJoin us for a relaxed\, connection-focused gathering. \n​When: Saturday afternoon\, April 4 (3rd Day of Passover) \nTime: 1:00 – 3:00 p.m. \n​The Vibe: Social\, welcoming\, and designed to feel like spending the afternoon with friends. Passover-inspired prompts and icebreakers woven throughout. \n​What to Expect: \n\n​Matzah topping bar with a variety of Matzah and sweet & savory toppings\n​Non-alcoholic beverages\n​Intentional\, connection-focused social experience\n\n​The Location: Gorgeous indoor luxury space with plenty of air conditioning and comfortable seating \n​Who’s Welcome: Jewish young adults in their 20s–30s \nNon-Jewish partners are welcome \nRSVP HERE \n​Aleeza Kaplan \nCONGREGATION KEHILLAH YOUNG ADULTS
URL:https://congregationkehillah.org/event/cyka-break-the-matzah/
END:VEVENT
BEGIN:VEVENT
DTSTART;TZID=America/Phoenix:20260406T170000
DTEND;TZID=America/Phoenix:20260406T181500
DTSTAMP:20260422T022806
CREATED:20250802T015814Z
LAST-MODIFIED:20260328T012022Z
UID:15097-1775494800-1775499300@congregationkehillah.org
SUMMARY:Welcome to Judaism
DESCRIPTION:12 \n\n\n\n\n\n\n\n\n\n\n\n\n\n\n\n\n\n\n\n\n\n\n\n\n\n\n\n\n\n\n\nWELCOME TO JUDAISM \n5:00 – 6:15 p.m. \nVia Zoom \n\n\n\n\n\n\n\n\n\nThis introductory course\, taught by Rabbi Sharfman\, provides a foundation in the basic tenets of Judaism. Among areas covered are History\, Holidays and Observances\, Life Cycle\, Theology\, Prayer\, Israel\, and Communal Life. Open to non-Jews alone\, non-Jews with their Jewish partners\, and Jewish adults interested in further exploring Judaism. \nSpring Schedule (subject to change) \nApril 6\, 13\, 20 and 27 \nMay 4\, 11 and 18 if needed as a wrap up \nThis class is offered at no charge \nfor all dues paying members of CK! \nRegister by emailing Renee. \nNon-members\, please use this link to register
URL:https://congregationkehillah.org/event/welcome-to-judaism-2/
END:VEVENT
BEGIN:VEVENT
DTSTART;TZID=America/Phoenix:20260407T180000
DTEND;TZID=America/Phoenix:20260407T200000
DTSTAMP:20260422T022806
CREATED:20260206T063921Z
LAST-MODIFIED:20260206T064345Z
UID:15061-1775584800-1775592000@congregationkehillah.org
SUMMARY:Women’s Seder
DESCRIPTION:  \n“And MiriAM the prophetess\, the sister of Aaron\, \ntook a timbrel in her hand; and all the women went out after her \nwith timbrels and with dances” \nCongregation Kehillah \nWomen’s Seder Experience… \nA “Taste” of Passover \nTuesday\, April 7 – 6:00 pm \nJoin the women of CK for a special Seder. \nWomen of all ages (mothers and daughters\, too) are encouraged to participate in this evening. \n$36 /adult (13 and older) and $18/YEP! student \nThis will not be a full dinner but will include ritual foods and dessert. \nWould you like to bring your favorite Charoset* or Passover Dessert*? Please let Renee know. \nQuestions? Email or call \nRenee Joffe\, Administrator \ninfo@congregationkehillah.org or 602-369-7667 \nPlease RSVP by Tuesday\, March 31 \nPlease complete the form below: \nWomen’s Seder 2026 – fillable \n  \n  \n  \n  \n  \nWomen’s Seder 2026 – fillable \n 
URL:https://congregationkehillah.org/event/womens-sedar/
END:VEVENT
END:VCALENDAR